BEGIN:VCALENDAR
VERSION:2.0
PRODID:-//Tukios.com/
BEGIN:VEVENT
UID:71f645ca-10fc-4951-a0cc-f64429cedb07@obituaries.baldwincremation.com
DTSTAMP:20260424T212511Z
DTSTART:20260428T140000Z
DTEND:20260428T150000Z
SUMMARY:Viewing
DESCRIPTION:
URL:https://obituaries.baldwincremation.com/eileen-guntner
LOCATION:Baldwin Brothers Funeral Home 2400 South Washington Avenue  
	Titusville FL 32780
GEO:28.5875008;-80.8025732
END:VEVENT
END:VCALENDAR