BEGIN:VCALENDAR
VERSION:2.0
PRODID:-//Tukios.com/
BEGIN:VEVENT
UID:b97a4e3d-bfc6-40b7-82f7-3f7c853eba1d@obituaries.baldwincremation.com
DTSTAMP:20260424T211914Z
DTSTART:20260428T150000Z
DTEND:20260428T160000Z
SUMMARY:Funeral Service
DESCRIPTION:
URL:https://obituaries.baldwincremation.com/eileen-guntner
LOCATION:Baldwin Brothers Funeral Home 2400 South Washington Avenue  
	Titusville FL 32780
GEO:28.5875008;-80.8025732
END:VEVENT
END:VCALENDAR