BEGIN:VCALENDAR
VERSION:2.0
PRODID:-//Tukios.com/
BEGIN:VEVENT
UID:a66d00e0-464f-4255-aeac-9b054cad7043@obituaries.baldwincremation.com
DTSTAMP:20260421T153615Z
DTSTART:20260502T150000Z
DTEND:20260502T160000Z
SUMMARY:Memorial Service
DESCRIPTION:
URL:https://obituaries.baldwincremation.com/gary-mcdowell
LOCATION:Hampton Inn, the Villages 1727 NE 63rd Dr  Lady Lake FL 32162
GEO:28.9273414;-81.99813
END:VEVENT
END:VCALENDAR