BEGIN:VCALENDAR
VERSION:2.0
PRODID:-//Tukios.com/
BEGIN:VEVENT
UID:c0f55c56-8327-4ea0-8cd3-b22cad633976@obituaries.baldwincremation.com
DTSTAMP:20260423T172817Z
DTSTART:20260502T180000Z
DTEND:20260502T210000Z
SUMMARY:Celebration of Life
DESCRIPTION:
URL:https://obituaries.baldwincremation.com/jason-quest
LOCATION:Winter Park Country Club 761 Old England Avenue  Winter Park FL 
	32789
GEO:28.6039773;-81.3481404
END:VEVENT
END:VCALENDAR