BEGIN:VCALENDAR
VERSION:2.0
PRODID:-//Tukios.com/
BEGIN:VEVENT
UID:35b1f613-e693-4d38-99b6-dcaeb81f3c7d@obituaries.baldwincremation.com
DTSTAMP:20260420T010052Z
DTSTART:20260420T170000Z
DTEND:20260420T180000Z
SUMMARY:Memorial Service
DESCRIPTION:
URL:https://obituaries.baldwincremation.com/john-beckler
LOCATION:Hope Hospice 2430 Diplomat Pkwy E  Cape Coral FL 33909
GEO:26.6827449;-81.9208947
END:VEVENT
END:VCALENDAR