BEGIN:VCALENDAR
VERSION:2.0
PRODID:-//Tukios.com/
BEGIN:VEVENT
UID:51617a38-c26b-4c31-9df5-517792fb5315@obituaries.baldwincremation.com
DTSTAMP:20260424T065425Z
DTSTART:20260509T180000Z
DTEND:20260509T190000Z
SUMMARY:Celebration of Life
DESCRIPTION:
URL:https://obituaries.baldwincremation.com/john-umberger
LOCATION:Del Tura Country Club 18621 N Tamiami Trl  N Fort Myers FL 33903
GEO:26.7351348;-81.912349
END:VEVENT
END:VCALENDAR