BEGIN:VCALENDAR
VERSION:2.0
PRODID:-//Tukios.com/
BEGIN:VEVENT
UID:04731923-8b0e-401a-9d2f-d47c8565e447@obituaries.baldwincremation.com
DTSTAMP:20260426T022902Z
DTSTART:20260620T150000Z
DTEND:20260620T180000Z
SUMMARY:Celebration of Life
DESCRIPTION:
URL:https://obituaries.baldwincremation.com/peggy-chase
LOCATION:Philippe Park 2525 Philippe Parkway  Safety Harbor FL 34695
GEO:28.0086487;-82.6796507
END:VEVENT
END:VCALENDAR