BEGIN:VCALENDAR
VERSION:2.0
PRODID:-//Tukios.com/
BEGIN:VEVENT
UID:0afd6a0d-a71a-48e8-9e52-587ffc829da4@obituaries.baldwincremation.com
DTSTAMP:20260422T224101Z
DTSTART:20260509T170000Z
DTEND:20260509T180000Z
SUMMARY:Mass
DESCRIPTION:
URL:https://obituaries.baldwincremation.com/rose-fish
LOCATION: 5323 East County Road 462  Wildwood FL 34785
GEO:28.876161;-82.020705
END:VEVENT
END:VCALENDAR