BEGIN:VCALENDAR
VERSION:2.0
PRODID:-//Tukios.com/
BEGIN:VEVENT
UID:1f7d41d3-f821-47de-bdfe-22b97f4da99d@obituaries.baldwincremation.com
DTSTAMP:20260424T071007Z
DTSTART:20260430T140000Z
DTEND:20260430T150000Z
SUMMARY:Funeral Mass for Sandra Compton
DESCRIPTION:
URL:https://obituaries.baldwincremation.com/sandra-compton
LOCATION: 4000 South Atlantic Avenue  New Smyrna Beach FL 32169
GEO:29.0056407;-80.8778031
END:VEVENT
END:VCALENDAR