BEGIN:VCALENDAR
VERSION:2.0
PRODID:-//Tukios.com/
BEGIN:VEVENT
UID:4a79933c-5e6d-4b42-b227-6d7b79feb044@obituaries.baldwincremation.com
DTSTAMP:20260424T070754Z
DTSTART:20260430T213000Z
DTEND:20260430T233000Z
SUMMARY:Celebration of Life
DESCRIPTION:
URL:https://obituaries.baldwincremation.com/sandra-compton
LOCATION:The Hub on Canal 132 Canal St  New Smyrna Beach FL 32168
GEO:29.0250658;-80.9219072
END:VEVENT
END:VCALENDAR