BEGIN:VCALENDAR
VERSION:2.0
PRODID:-//Tukios.com/
BEGIN:VEVENT
UID:b48bddcd-718e-43ba-b64b-2dd77b5b94c2@obituaries.baldwincremation.com
DTSTAMP:20260422T024300Z
DTSTART:20260424T153000Z
DTEND:20260424T163000Z
SUMMARY:Graveside Service
DESCRIPTION:
URL:https://obituaries.baldwincremation.com/warren-trager
LOCATION:Mount Sinai Cemetery 340 White Street  Daytona Beach FL 32114
GEO:29.206307;-81.049055
END:VEVENT
END:VCALENDAR